BEGIN:VCALENDAR
VERSION:2.0
PRODID:-//tanz-werk.com - ECPv6.15.19//NONSGML v1.0//EN
CALSCALE:GREGORIAN
METHOD:PUBLISH
X-WR-CALNAME:tanz-werk.com
X-ORIGINAL-URL:https://tanz-werk.com
X-WR-CALDESC:Veranstaltungen für tanz-werk.com
REFRESH-INTERVAL;VALUE=DURATION:PT1H
X-Robots-Tag:noindex
X-PUBLISHED-TTL:PT1H
BEGIN:VTIMEZONE
TZID:Europe/Berlin
BEGIN:DAYLIGHT
TZOFFSETFROM:+0100
TZOFFSETTO:+0200
TZNAME:CEST
DTSTART:20250330T010000
END:DAYLIGHT
BEGIN:STANDARD
TZOFFSETFROM:+0200
TZOFFSETTO:+0100
TZNAME:CET
DTSTART:20251026T010000
END:STANDARD
BEGIN:DAYLIGHT
TZOFFSETFROM:+0100
TZOFFSETTO:+0200
TZNAME:CEST
DTSTART:20260329T010000
END:DAYLIGHT
BEGIN:STANDARD
TZOFFSETFROM:+0200
TZOFFSETTO:+0100
TZNAME:CET
DTSTART:20261025T010000
END:STANDARD
BEGIN:DAYLIGHT
TZOFFSETFROM:+0100
TZOFFSETTO:+0200
TZNAME:CEST
DTSTART:20270328T010000
END:DAYLIGHT
BEGIN:STANDARD
TZOFFSETFROM:+0200
TZOFFSETTO:+0100
TZNAME:CET
DTSTART:20271031T010000
END:STANDARD
END:VTIMEZONE
BEGIN:VEVENT
DTSTART;TZID=Europe/Berlin:20260917T103000
DTEND;TZID=Europe/Berlin:20260917T113000
DTSTAMP:20260419T190250
CREATED:20260226T150907Z
LAST-MODIFIED:20260226T150907Z
UID:14099-1789641000-1789644600@tanz-werk.com
SUMMARY:DAS KLEINE ICH BIN ICH
DESCRIPTION:
URL:https://tanz-werk.com/event/das-kleine-ich-bin-ich-131/
LOCATION:Gemeindebibliothek  Hemmingen\, Hauptstr. 2\, Hemmingen\, 71282
END:VEVENT
BEGIN:VEVENT
DTSTART;TZID=Europe/Berlin:20260918T150000
DTEND;TZID=Europe/Berlin:20260918T154500
DTSTAMP:20260419T190250
CREATED:20251007T120457Z
LAST-MODIFIED:20251007T120457Z
UID:13665-1789743600-1789746300@tanz-werk.com
SUMMARY:DAS KLEINE ICH BIN ICH
DESCRIPTION:
URL:https://tanz-werk.com/event/das-kleine-ich-bin-ich-130/
LOCATION:Subiaco in der Majolika\, Schiltachstr. 28\, Schramberg\, 78713
END:VEVENT
BEGIN:VEVENT
DTSTART;TZID=Europe/Berlin:20260919T160000
DTEND;TZID=Europe/Berlin:20260919T164500
DTSTAMP:20260419T190250
CREATED:20251007T120228Z
LAST-MODIFIED:20251007T120228Z
UID:13660-1789833600-1789836300@tanz-werk.com
SUMMARY:DAS KLEINE ICH BIN ICH
DESCRIPTION:
URL:https://tanz-werk.com/event/das-kleine-ich-bin-ich-129/
LOCATION:Jugendkulturtreff E-Werk\, Wallstr. 24\, Bad Homburg\, 61343
END:VEVENT
BEGIN:VEVENT
DTSTART;TZID=Europe/Berlin:20260922T103000
DTEND;TZID=Europe/Berlin:20260922T111500
DTSTAMP:20260419T190250
CREATED:20250718T081019Z
LAST-MODIFIED:20250718T083832Z
UID:13402-1790073000-1790075700@tanz-werk.com
SUMMARY:DAS KLEINE ICH BIN ICH
DESCRIPTION:
URL:https://tanz-werk.com/event/das-kleine-ich-bin-ich-119/
LOCATION:Bürgerhaus Mainz-Kastel\, Bürgerhaus\, Mainz-Kastel\, 55252
END:VEVENT
BEGIN:VEVENT
DTSTART;TZID=Europe/Berlin:20260923T100000
DTEND;TZID=Europe/Berlin:20260923T104500
DTSTAMP:20260419T190250
CREATED:20250718T081451Z
LAST-MODIFIED:20250718T081451Z
UID:13405-1790157600-1790160300@tanz-werk.com
SUMMARY:DAS KLEINE ICH BIN ICH
DESCRIPTION:
URL:https://tanz-werk.com/event/das-kleine-ich-bin-ich-120/
LOCATION:Wilhelm-Heinrich-von-Riehl-Schule\, Wiesbaden-Biebrich\, 65203
END:VEVENT
BEGIN:VEVENT
DTSTART;TZID=Europe/Berlin:20260923T153000
DTEND;TZID=Europe/Berlin:20260923T161500
DTSTAMP:20260419T190250
CREATED:20250718T082010Z
LAST-MODIFIED:20250718T084051Z
UID:13409-1790177400-1790180100@tanz-werk.com
SUMMARY:DAS KLEINE ICH BIN ICH
DESCRIPTION:
URL:https://tanz-werk.com/event/das-kleine-ich-bin-ich-121/
LOCATION:Fliednerschule Wiesbaden\, Wiesbaden-Bierstadt\, 65191
END:VEVENT
BEGIN:VEVENT
DTSTART;TZID=Europe/Berlin:20260924T100000
DTEND;TZID=Europe/Berlin:20260924T104500
DTSTAMP:20260419T190250
CREATED:20250718T082427Z
LAST-MODIFIED:20250718T082602Z
UID:13413-1790244000-1790246700@tanz-werk.com
SUMMARY:DAS KLEINE ICH BIN ICH
DESCRIPTION:
URL:https://tanz-werk.com/event/das-kleine-ich-bin-ich-122/
LOCATION:Sophia-undHans-Scholl-Schule\, Wiesbaden-Klarenthal\, 65197
END:VEVENT
BEGIN:VEVENT
DTSTART;TZID=Europe/Berlin:20260925T103000
DTEND;TZID=Europe/Berlin:20260925T111500
DTSTAMP:20260419T190250
CREATED:20250718T082844Z
LAST-MODIFIED:20250718T082844Z
UID:13418-1790332200-1790334900@tanz-werk.com
SUMMARY:DAS KLEINE ICH BIN ICH
DESCRIPTION:
URL:https://tanz-werk.com/event/das-kleine-ich-bin-ich-123/
LOCATION:Bürgerhaus Mainz-Kostheim\, Winterstr. 20\, Mainz-Kostheim\, 55246
END:VEVENT
BEGIN:VEVENT
DTSTART;TZID=Europe/Berlin:20260926T150000
DTEND;TZID=Europe/Berlin:20260926T154500
DTSTAMP:20260419T190250
CREATED:20250718T083126Z
LAST-MODIFIED:20250718T083126Z
UID:13422-1790434800-1790437500@tanz-werk.com
SUMMARY:DAS KLEINE ICH BIN ICH
DESCRIPTION:
URL:https://tanz-werk.com/event/das-kleine-ich-bin-ich-124/
LOCATION:Mauritius-Mediathek Wiesbaden\, Hochstättenstr. 6-10\, Wiesbaden\, 65183
END:VEVENT
BEGIN:VEVENT
DTSTART;TZID=Europe/Berlin:20260928T160000
DTEND;TZID=Europe/Berlin:20260928T164500
DTSTAMP:20260419T190250
CREATED:20250513T083743Z
LAST-MODIFIED:20260202T091311Z
UID:13379-1790611200-1790613900@tanz-werk.com
SUMMARY:DAS KLEINE ICH BIN ICH
DESCRIPTION:
URL:https://tanz-werk.com/event/das-kleine-ich-bin-ich-118/
LOCATION:Jugendheim Grafschaft-Holzweiler\, Vettelhovenerstr. 120\, Grafschaft-Holzweiler\, 53501
END:VEVENT
BEGIN:VEVENT
DTSTART;TZID=Europe/Berlin:20260929T100000
DTEND;TZID=Europe/Berlin:20260929T104500
DTSTAMP:20260419T190250
CREATED:20250718T084537Z
LAST-MODIFIED:20250718T084537Z
UID:13428-1790676000-1790678700@tanz-werk.com
SUMMARY:DAS KLEINE ICH BIN ICH
DESCRIPTION:
URL:https://tanz-werk.com/event/das-kleine-ich-bin-ich-125/
LOCATION:Erich-Kästner-Schule Wiesbaden\, Wiesbaden-Schierstein\, 65201
END:VEVENT
END:VCALENDAR