BEGIN:VCALENDAR
VERSION:2.0
PRODID:-//tanz-werk.com - ECPv6.15.19//NONSGML v1.0//EN
CALSCALE:GREGORIAN
METHOD:PUBLISH
X-WR-CALNAME:tanz-werk.com
X-ORIGINAL-URL:https://tanz-werk.com
X-WR-CALDESC:Veranstaltungen für tanz-werk.com
REFRESH-INTERVAL;VALUE=DURATION:PT1H
X-Robots-Tag:noindex
X-PUBLISHED-TTL:PT1H
BEGIN:VTIMEZONE
TZID:Europe/Berlin
BEGIN:DAYLIGHT
TZOFFSETFROM:+0100
TZOFFSETTO:+0200
TZNAME:CEST
DTSTART:20240331T010000
END:DAYLIGHT
BEGIN:STANDARD
TZOFFSETFROM:+0200
TZOFFSETTO:+0100
TZNAME:CET
DTSTART:20241027T010000
END:STANDARD
BEGIN:DAYLIGHT
TZOFFSETFROM:+0100
TZOFFSETTO:+0200
TZNAME:CEST
DTSTART:20250330T010000
END:DAYLIGHT
BEGIN:STANDARD
TZOFFSETFROM:+0200
TZOFFSETTO:+0100
TZNAME:CET
DTSTART:20251026T010000
END:STANDARD
BEGIN:DAYLIGHT
TZOFFSETFROM:+0100
TZOFFSETTO:+0200
TZNAME:CEST
DTSTART:20260329T010000
END:DAYLIGHT
BEGIN:STANDARD
TZOFFSETFROM:+0200
TZOFFSETTO:+0100
TZNAME:CET
DTSTART:20261025T010000
END:STANDARD
END:VTIMEZONE
BEGIN:VEVENT
DTSTART;TZID=Europe/Berlin:20251014T103000
DTEND;TZID=Europe/Berlin:20251014T111500
DTSTAMP:20260422T120412
CREATED:20250501T124520Z
LAST-MODIFIED:20250501T124520Z
UID:13369-1760437800-1760440500@tanz-werk.com
SUMMARY:DAS KLEINE ICH BIN ICH
DESCRIPTION:
URL:https://tanz-werk.com/event/das-kleine-ich-bin-ich-116/
LOCATION:Jahnhalle\, Eckenerstr. 1\, Gaggenau\, 76571
END:VEVENT
BEGIN:VEVENT
DTSTART;TZID=Europe/Berlin:20251014T153000
DTEND;TZID=Europe/Berlin:20251014T161500
DTSTAMP:20260422T120412
CREATED:20250501T124750Z
LAST-MODIFIED:20250501T124750Z
UID:13373-1760455800-1760458500@tanz-werk.com
SUMMARY:DAS KLEINE ICH BIN ICH
DESCRIPTION:
URL:https://tanz-werk.com/event/das-kleine-ich-bin-ich-117/
LOCATION:Jahnhalle\, Eckenerstr. 1\, Gaggenau\, 76571
END:VEVENT
BEGIN:VEVENT
DTSTART;TZID=Europe/Berlin:20251015T150000
DTEND;TZID=Europe/Berlin:20251015T154500
DTSTAMP:20260422T120412
CREATED:20241112T140554Z
LAST-MODIFIED:20241112T140554Z
UID:12602-1760540400-1760543100@tanz-werk.com
SUMMARY:DAS KLEINE ICH BIN ICH
DESCRIPTION:
URL:https://tanz-werk.com/event/das-kleine-ich-bin-ich-112/
LOCATION:Palais Adelmann\, Ellwangen\, Obere Str. 6\, Ellwangen\, 73479
END:VEVENT
BEGIN:VEVENT
DTSTART;TZID=Europe/Berlin:20251017T103000
DTEND;TZID=Europe/Berlin:20251017T111500
DTSTAMP:20260422T120412
CREATED:20240518T130402Z
LAST-MODIFIED:20240518T130402Z
UID:11719-1760697000-1760699700@tanz-werk.com
SUMMARY:DAS KLEINE ICH BIN ICH
DESCRIPTION:
URL:https://tanz-werk.com/event/das-kleine-ich-bin-ich-99/
LOCATION:Kulturzentrum Postsaal\, Marktmülleranger 1\, Trostberg\, 83308
END:VEVENT
BEGIN:VEVENT
DTSTART;TZID=Europe/Berlin:20251017T150000
DTEND;TZID=Europe/Berlin:20251017T154500
DTSTAMP:20260422T120412
CREATED:20240518T130547Z
LAST-MODIFIED:20240518T130547Z
UID:11723-1760713200-1760715900@tanz-werk.com
SUMMARY:DAS KLEINE ICH BIN ICH
DESCRIPTION:
URL:https://tanz-werk.com/event/das-kleine-ich-bin-ich-100/
LOCATION:Hinteres Schlößchen\, Schloß Heusenstamm\, Heusenstamm\, 63150
END:VEVENT
BEGIN:VEVENT
DTSTART;TZID=Europe/Berlin:20251018T150000
DTEND;TZID=Europe/Berlin:20251018T154500
DTSTAMP:20260422T120412
CREATED:20250228T095239Z
LAST-MODIFIED:20250228T095239Z
UID:12972-1760799600-1760802300@tanz-werk.com
SUMMARY:DAS KLEINE ICH BIN ICH
DESCRIPTION:
URL:https://tanz-werk.com/event/das-kleine-ich-bin-ich-114/
LOCATION:Gemeindebücherei\, Rathausplatz 11\, Unterhaching\, 82008
END:VEVENT
BEGIN:VEVENT
DTSTART;TZID=Europe/Berlin:20251019T160000
DTEND;TZID=Europe/Berlin:20251019T164500
DTSTAMP:20260422T120412
CREATED:20240401T150643Z
LAST-MODIFIED:20240401T150643Z
UID:11599-1760889600-1760892300@tanz-werk.com
SUMMARY:DAS KLEINE ICH BIN ICH
DESCRIPTION:
URL:https://tanz-werk.com/event/das-kleine-ich-bin-ich-83/
LOCATION:Lebensgemeinschaft Höhenberg\, Höhenberg 8\, Velden\, 84149
END:VEVENT
BEGIN:VEVENT
DTSTART;TZID=Europe/Berlin:20251020T103000
DTEND;TZID=Europe/Berlin:20251020T113000
DTSTAMP:20260422T120412
CREATED:20250916T124640Z
LAST-MODIFIED:20250916T124640Z
UID:13639-1760956200-1760959800@tanz-werk.com
SUMMARY:DAS KLEINE ICH BIN ICH
DESCRIPTION:
URL:https://tanz-werk.com/event/das-kleine-ich-bin-ich-128/
LOCATION:Stadtbücherei Herbrechtigen\, Eselsburgerstr. 8\, Herbrechtingen\, 89542
END:VEVENT
BEGIN:VEVENT
DTSTART;TZID=Europe/Berlin:20251021T150000
DTEND;TZID=Europe/Berlin:20251021T154500
DTSTAMP:20260422T120412
CREATED:20250311T143820Z
LAST-MODIFIED:20250311T143820Z
UID:13002-1761058800-1761061500@tanz-werk.com
SUMMARY:DAS KLEINE ICH BIN ICH
DESCRIPTION:
URL:https://tanz-werk.com/event/das-kleine-ich-bin-ich-115/
LOCATION:Stadtbibliothek  Landsberg\, Katharinenstr. 1\, Landsberg\, 86899
END:VEVENT
BEGIN:VEVENT
DTSTART;TZID=Europe/Berlin:20251022T093000
DTEND;TZID=Europe/Berlin:20251022T101500
DTSTAMP:20260422T120412
CREATED:20250809T132600Z
LAST-MODIFIED:20250809T132600Z
UID:13459-1761125400-1761128100@tanz-werk.com
SUMMARY:DAS KLEINE ICH BIN ICH
DESCRIPTION:
URL:https://tanz-werk.com/event/das-kleine-ich-bin-ich-126/
LOCATION:Sprachheilzentrum Die Zieglerschen\, Hochgerichtstr. 46\, Ravensburg\, 88213
END:VEVENT
BEGIN:VEVENT
DTSTART;TZID=Europe/Berlin:20251022T110000
DTEND;TZID=Europe/Berlin:20251224T114500
DTSTAMP:20260422T120412
CREATED:20250809T132751Z
LAST-MODIFIED:20250809T132751Z
UID:13461-1761130800-1766576700@tanz-werk.com
SUMMARY:DAS KLEINE ICH BIN ICH
DESCRIPTION:
URL:https://tanz-werk.com/event/das-kleine-ich-bin-ich-127/
LOCATION:Sprachheilzentrum Die Zieglerschen\, Hochgerichtstr. 46\, Ravensburg\, 88213
END:VEVENT
BEGIN:VEVENT
DTSTART;TZID=Europe/Berlin:20251029T150000
DTEND;TZID=Europe/Berlin:20251029T154500
DTSTAMP:20260422T120412
CREATED:20241013T062615Z
LAST-MODIFIED:20241013T062615Z
UID:12548-1761750000-1761752700@tanz-werk.com
SUMMARY:DAS KLEINE ICH BIN ICH
DESCRIPTION:
URL:https://tanz-werk.com/event/das-kleine-ich-bin-ich-107/
LOCATION:Bürgersaal Neuenhain\, Hauptstr. 45\, Bad Soden\, 65812
END:VEVENT
END:VCALENDAR