BEGIN:VCALENDAR
VERSION:2.0
PRODID:-//tanz-werk.com - ECPv6.15.19//NONSGML v1.0//EN
CALSCALE:GREGORIAN
METHOD:PUBLISH
X-WR-CALNAME:tanz-werk.com
X-ORIGINAL-URL:https://tanz-werk.com
X-WR-CALDESC:Veranstaltungen für tanz-werk.com
REFRESH-INTERVAL;VALUE=DURATION:PT1H
X-Robots-Tag:noindex
X-PUBLISHED-TTL:PT1H
BEGIN:VTIMEZONE
TZID:Europe/Berlin
BEGIN:DAYLIGHT
TZOFFSETFROM:+0100
TZOFFSETTO:+0200
TZNAME:CEST
DTSTART:20250330T010000
END:DAYLIGHT
BEGIN:STANDARD
TZOFFSETFROM:+0200
TZOFFSETTO:+0100
TZNAME:CET
DTSTART:20251026T010000
END:STANDARD
BEGIN:DAYLIGHT
TZOFFSETFROM:+0100
TZOFFSETTO:+0200
TZNAME:CEST
DTSTART:20260329T010000
END:DAYLIGHT
BEGIN:STANDARD
TZOFFSETFROM:+0200
TZOFFSETTO:+0100
TZNAME:CET
DTSTART:20261025T010000
END:STANDARD
BEGIN:DAYLIGHT
TZOFFSETFROM:+0100
TZOFFSETTO:+0200
TZNAME:CEST
DTSTART:20270328T010000
END:DAYLIGHT
BEGIN:STANDARD
TZOFFSETFROM:+0200
TZOFFSETTO:+0100
TZNAME:CET
DTSTART:20271031T010000
END:STANDARD
END:VTIMEZONE
BEGIN:VEVENT
DTSTART;TZID=Europe/Berlin:20260923T100000
DTEND;TZID=Europe/Berlin:20260923T104500
DTSTAMP:20260419T205032
CREATED:20250718T081451Z
LAST-MODIFIED:20250718T081451Z
UID:13405-1790157600-1790160300@tanz-werk.com
SUMMARY:DAS KLEINE ICH BIN ICH
DESCRIPTION:
URL:https://tanz-werk.com/event/das-kleine-ich-bin-ich-120/
LOCATION:Wilhelm-Heinrich-von-Riehl-Schule\, Wiesbaden-Biebrich\, 65203
END:VEVENT
BEGIN:VEVENT
DTSTART;TZID=Europe/Berlin:20260923T153000
DTEND;TZID=Europe/Berlin:20260923T161500
DTSTAMP:20260419T205032
CREATED:20250718T082010Z
LAST-MODIFIED:20250718T084051Z
UID:13409-1790177400-1790180100@tanz-werk.com
SUMMARY:DAS KLEINE ICH BIN ICH
DESCRIPTION:
URL:https://tanz-werk.com/event/das-kleine-ich-bin-ich-121/
LOCATION:Fliednerschule Wiesbaden\, Wiesbaden-Bierstadt\, 65191
END:VEVENT
END:VCALENDAR